BEGIN:VCALENDAR
VERSION:2.0
PRODID:-//Literacy Connections of the Hudson Valley - ECPv6.15.17//NONSGML v1.0//EN
CALSCALE:GREGORIAN
METHOD:PUBLISH
X-ORIGINAL-URL:https://www.literacyconnections.org
X-WR-CALDESC:Events for Literacy Connections of the Hudson Valley
REFRESH-INTERVAL;VALUE=DURATION:PT1H
X-Robots-Tag:noindex
X-PUBLISHED-TTL:PT1H
BEGIN:VTIMEZONE
TZID:America/New_York
BEGIN:DAYLIGHT
TZOFFSETFROM:-0500
TZOFFSETTO:-0400
TZNAME:EDT
DTSTART:20220313T070000
END:DAYLIGHT
BEGIN:STANDARD
TZOFFSETFROM:-0400
TZOFFSETTO:-0500
TZNAME:EST
DTSTART:20221106T060000
END:STANDARD
BEGIN:DAYLIGHT
TZOFFSETFROM:-0500
TZOFFSETTO:-0400
TZNAME:EDT
DTSTART:20230312T070000
END:DAYLIGHT
BEGIN:STANDARD
TZOFFSETFROM:-0400
TZOFFSETTO:-0500
TZNAME:EST
DTSTART:20231105T060000
END:STANDARD
BEGIN:DAYLIGHT
TZOFFSETFROM:-0500
TZOFFSETTO:-0400
TZNAME:EDT
DTSTART:20240310T070000
END:DAYLIGHT
BEGIN:STANDARD
TZOFFSETFROM:-0400
TZOFFSETTO:-0500
TZNAME:EST
DTSTART:20241103T060000
END:STANDARD
END:VTIMEZONE
BEGIN:VEVENT
DTSTART;TZID=America/New_York:20230815T103000
DTEND;TZID=America/New_York:20230815T120000
DTSTAMP:20260423T132615
CREATED:20230801T145900Z
LAST-MODIFIED:20230801T145900Z
UID:3645-1692095400-1692100800@www.literacyconnections.org
SUMMARY:New Volunteer Orientation
DESCRIPTION:Discover the Joy of Volunteering volunteer with Literacy Connections! \nAre you passionate about helping others learn to read and write? At Literacy Connections\, we are dedicated to empowering individuals with essential literacy skills and unlocking their full potential. \nOur organization has a rich history of making a difference in tackling the issue of illiteracy in our communities. Now\, we invite you to be part of this life-changing mission by joining our team of dedicated volunteers. \nWhether you’re an experienced educator or a newcomer to teaching\, we welcome all who share our commitment to promoting literacy. Our comprehensive training program ensures that you’re equipped with the necessary skills and knowledge to make a profound impact as a tutor or small-group teacher\, guiding basic readers or English language learners. \nNot inclined towards teaching directly? No worries! There are various ways to contribute and support our cause. By becoming a part of our literacy-promoting community\, you’ll play a crucial role in transforming lives and opening doors to brighter futures. \nTo get started on this rewarding journey\, all you need to do is register for our orientation. During this session\, we’ll provide you with valuable insights into working with our students and empower you with the tools to create meaningful learning experiences. \nJoin us in spreading the joy of literacy and making a real difference in someone’s life. Together\, let’s inspire the love for reading\, writing\, and learning. Register now by emailing Heather at colgreene@literacyconnections.org. \nTogether\, we can make a lasting impact on the lives of those seeking to read\, write\, and achieve their dreams. Be a catalyst for change – volunteer with Literacy Connections today! \nRemember to Like and Share on Facebook and Instagram!
URL:https://www.literacyconnections.org/event/hl815/
LOCATION:Hudson Area Library\, 51 North 5th Street\, Hudson\, NY\, 12534\, United States
CATEGORIES:Registration,Volunteer Orientations
END:VEVENT
BEGIN:VEVENT
DTSTART;TZID=America/New_York:20230819T110000
DTEND;TZID=America/New_York:20230819T150000
DTSTAMP:20260423T132615
CREATED:20230731T203839Z
LAST-MODIFIED:20230731T203839Z
UID:3640-1692442800-1692457200@www.literacyconnections.org
SUMMARY:Free Citizenship Workshop!
DESCRIPTION:Free Citizenship Workshop\n  \nJoin us for a Naturalization Workshop hosted by Citizenshipworks in partnership with the Office of New Americans and GMHC at Howland Public Library in Beacon! If you’re looking to become a U.S. citizen\, this workshop is designed to assist you in completing the N-400 application and provide a free legal review of your application. Our experienced team will guide you through the process\, answer your questions\, and ensure that you have all the necessary information and documents. Don’t miss this opportunity to receive expert guidance and support on your path to citizenship. \nRegister For the Citizenship Workshop Now!\n  \n \n  \nStruggling with English while trying to gain citizenship? Sign up for a Free English Tutor now! Our experienced tutors provide personalized sessions\, catering to your needs. From grammar to speaking and writing\, we’ll help you excel. Get one-on-one attention\, constructive feedback\, and flexible scheduling. Don’t let language barriers hold you back. Join our Free English Tutor program today and master English with confidence!
URL:https://www.literacyconnections.org/event/free-citizenship-workshop/
LOCATION:Howland Public Library\, 313 Main st\, Beacon\, NY\, 12508\, United States
CATEGORIES:Citizenship,ESL,ESL Drop In Center,Registration
END:VEVENT
END:VCALENDAR