BEGIN:VCALENDAR
VERSION:2.0
PRODID:-//Literacy Connections of the Hudson Valley - ECPv6.15.17//NONSGML v1.0//EN
CALSCALE:GREGORIAN
METHOD:PUBLISH
X-ORIGINAL-URL:https://www.literacyconnections.org
X-WR-CALDESC:Events for Literacy Connections of the Hudson Valley
REFRESH-INTERVAL;VALUE=DURATION:PT1H
X-Robots-Tag:noindex
X-PUBLISHED-TTL:PT1H
BEGIN:VTIMEZONE
TZID:America/New_York
BEGIN:DAYLIGHT
TZOFFSETFROM:-0500
TZOFFSETTO:-0400
TZNAME:EDT
DTSTART:20220313T070000
END:DAYLIGHT
BEGIN:STANDARD
TZOFFSETFROM:-0400
TZOFFSETTO:-0500
TZNAME:EST
DTSTART:20221106T060000
END:STANDARD
BEGIN:DAYLIGHT
TZOFFSETFROM:-0500
TZOFFSETTO:-0400
TZNAME:EDT
DTSTART:20230312T070000
END:DAYLIGHT
BEGIN:STANDARD
TZOFFSETFROM:-0400
TZOFFSETTO:-0500
TZNAME:EST
DTSTART:20231105T060000
END:STANDARD
BEGIN:DAYLIGHT
TZOFFSETFROM:-0500
TZOFFSETTO:-0400
TZNAME:EDT
DTSTART:20240310T070000
END:DAYLIGHT
BEGIN:STANDARD
TZOFFSETFROM:-0400
TZOFFSETTO:-0500
TZNAME:EST
DTSTART:20241103T060000
END:STANDARD
END:VTIMEZONE
BEGIN:VEVENT
DTSTART;TZID=America/New_York:20231130T120000
DTEND;TZID=America/New_York:20231130T130000
DTSTAMP:20260423T035349
CREATED:20231113T195039Z
LAST-MODIFIED:20231113T195039Z
UID:3703-1701345600-1701349200@www.literacyconnections.org
SUMMARY:New Volunteer Orientation
DESCRIPTION:Discover the Joy of Volunteering with Literacy Connections by joining us for an orientation! \nAre you passionate about helping others learn to read and write? At Literacy Connections\, we dedicate ourselves to empowering individuals with essential literacy skills\, unlocking their full potential. \nOur organization has a rich history of making a difference in tackling the issue of illiteracy in our communities. Now\, we invite you to be part of this life-changing mission by joining our team of dedicated volunteers. \nWhether you’re an experienced educator or a newcomer to teaching\, we welcome all who share our commitment to promoting literacy. Our comprehensive training program ensures that you will be equipped with the necessary skills and knowledge to make a profound impact as a tutor or small-group teacher\, guiding basic readers or English language learners. \nNot inclined towards teaching directly? No worries! There are various ways to contribute and support our cause. By becoming a part of our literacy-promoting community\, you’ll play a crucial role in transforming lives and opening doors to brighter futures. \nTo embark on this rewarding journey\, simply register for our orientation. During this session\, we’ll provide you with valuable insights into working with our students and empower you with the tools to create meaningful learning experiences. \nJoin us in spreading the joy of literacy and making a real difference in someone’s life. Together\, let’s inspire the love for reading\, writing\, and learning. Register now by emailing Carrie at clandi@literacyconnections.org. \nTogether\, we can make a lasting impact on the lives of those seeking to read\, write\, and achieve their dreams. Be a catalyst for change – volunteer with Literacy Connections today! \nRemember to Like and Share on Facebook and Instagram!
URL:https://www.literacyconnections.org/event/new-volunteer-orientation-17/
LOCATION:Literacy Connections Main Office\, 504 Haight Ave\, Poughkeepsie\, NY\, 12601\, United States
CATEGORIES:Volunteer Orientations
END:VEVENT
END:VCALENDAR